BEGIN:VCALENDAR
VERSION:2.0
PRODID:-// - ECPv6.15.20//NONSGML v1.0//EN
CALSCALE:GREGORIAN
METHOD:PUBLISH
X-ORIGINAL-URL:https://desertoparallax.ch
X-WR-CALDESC:Events for 
REFRESH-INTERVAL;VALUE=DURATION:PT1H
X-Robots-Tag:noindex
X-PUBLISHED-TTL:PT1H
BEGIN:VTIMEZONE
TZID:Europe/Zurich
BEGIN:DAYLIGHT
TZOFFSETFROM:+0100
TZOFFSETTO:+0200
TZNAME:CEST
DTSTART:20220327T010000
END:DAYLIGHT
BEGIN:STANDARD
TZOFFSETFROM:+0200
TZOFFSETTO:+0100
TZNAME:CET
DTSTART:20221030T010000
END:STANDARD
BEGIN:DAYLIGHT
TZOFFSETFROM:+0100
TZOFFSETTO:+0200
TZNAME:CEST
DTSTART:20230326T010000
END:DAYLIGHT
BEGIN:STANDARD
TZOFFSETFROM:+0200
TZOFFSETTO:+0100
TZNAME:CET
DTSTART:20231029T010000
END:STANDARD
BEGIN:DAYLIGHT
TZOFFSETFROM:+0100
TZOFFSETTO:+0200
TZNAME:CEST
DTSTART:20240331T010000
END:DAYLIGHT
BEGIN:STANDARD
TZOFFSETFROM:+0200
TZOFFSETTO:+0100
TZNAME:CET
DTSTART:20241027T010000
END:STANDARD
END:VTIMEZONE
BEGIN:VEVENT
DTSTART;TZID=Europe/Zurich:20231024T200000
DTEND;TZID=Europe/Zurich:20231024T210000
DTSTAMP:20260425T122842
CREATED:20231024T171852Z
LAST-MODIFIED:20231030T100843Z
UID:456-1698177600-1698181200@desertoparallax.ch
SUMMARY:Landesmuseum Zürich
DESCRIPTION:
URL:https://desertoparallax.ch/event/landesmuseum/
LOCATION:Kunstmuseum Basel\, St. Alban-Graben 16\, Basel\, Switzerland
END:VEVENT
BEGIN:VEVENT
DTSTART;TZID=Europe/Zurich:20230909T200000
DTEND;TZID=Europe/Zurich:20230909T200000
DTSTAMP:20260425T122842
CREATED:20230709T094541Z
LAST-MODIFIED:20230709T094541Z
UID:445-1694289600-1694289600@desertoparallax.ch
SUMMARY:Mountain Hostel / Gimmelwald
DESCRIPTION:
URL:https://desertoparallax.ch/event/mountain-hostel-gimmelwald/
LOCATION:Mountain Hostel\, Niederi Matten\, Gimmelwald\, Switzerland
END:VEVENT
BEGIN:VEVENT
DTSTART;TZID=Europe/Zurich:20230908T210000
DTEND;TZID=Europe/Zurich:20230908T210000
DTSTAMP:20260425T122842
CREATED:20230709T094316Z
LAST-MODIFIED:20230709T094757Z
UID:442-1694206800-1694206800@desertoparallax.ch
SUMMARY:Kultur auf der Schütz / Bern
DESCRIPTION:
URL:https://desertoparallax.ch/event/kultur-auf-der-schutz-bern/
LOCATION:Schützenmatte\, Neubrückstrasse 8\, Bern\, Switzerland
END:VEVENT
BEGIN:VEVENT
DTSTART;TZID=Europe/Zurich:20230830T200000
DTEND;TZID=Europe/Zurich:20230830T200000
DTSTAMP:20260425T122842
CREATED:20230709T094053Z
LAST-MODIFIED:20230709T094053Z
UID:439-1693425600-1693425600@desertoparallax.ch
SUMMARY:Bierhübeli / Bern
DESCRIPTION:
URL:https://desertoparallax.ch/event/bierhubeli-bern/
LOCATION:Bierhübeli\, Neubrückstrasse 43\, Bern\, Switzerland
END:VEVENT
BEGIN:VEVENT
DTSTART;VALUE=DATE:20230727
DTEND;VALUE=DATE:20230728
DTSTAMP:20260425T122842
CREATED:20230709T093707Z
LAST-MODIFIED:20230709T093739Z
UID:436-1690416000-1690502399@desertoparallax.ch
SUMMARY:Mattenfest / Bern
DESCRIPTION:Trio
URL:https://desertoparallax.ch/event/mattenfest-bern/
LOCATION:Mattenfest\, Bern
END:VEVENT
BEGIN:VEVENT
DTSTART;TZID=Europe/Zurich:20230701T200000
DTEND;TZID=Europe/Zurich:20230701T200000
DTSTAMP:20260425T122842
CREATED:20230608T155238Z
LAST-MODIFIED:20230608T155238Z
UID:432-1688241600-1688241600@desertoparallax.ch
SUMMARY:Giraff Bar / Solothurn
DESCRIPTION:Deserto Parallax im Duo mit Max und Léo
URL:https://desertoparallax.ch/event/giraff-bar-solothurn/
LOCATION:Giraff Bar\, Kreuzgasse 7\, Solothurn\, Switzerland
END:VEVENT
BEGIN:VEVENT
DTSTART;TZID=Europe/Zurich:20230624T200000
DTEND;TZID=Europe/Zurich:20230624T200000
DTSTAMP:20260425T122842
CREATED:20230508T095919Z
LAST-MODIFIED:20230508T100108Z
UID:314-1687636800-1687636800@desertoparallax.ch
SUMMARY:Open Air Liestal
DESCRIPTION:
URL:https://desertoparallax.ch/event/open-air-liestal/
END:VEVENT
BEGIN:VEVENT
DTSTART;TZID=Europe/Zurich:20230623T200000
DTEND;TZID=Europe/Zurich:20230623T200000
DTSTAMP:20260425T122842
CREATED:20230508T100649Z
LAST-MODIFIED:20230509T130936Z
UID:318-1687550400-1687550400@desertoparallax.ch
SUMMARY:Holligenfest / Bern
DESCRIPTION:
URL:https://desertoparallax.ch/event/holligenfest/
END:VEVENT
BEGIN:VEVENT
DTSTART;TZID=Europe/Zurich:20230610T210000
DTEND;TZID=Europe/Zurich:20230610T210000
DTSTAMP:20260425T122842
CREATED:20230508T091928Z
LAST-MODIFIED:20230509T130853Z
UID:299-1686430800-1686430800@desertoparallax.ch
SUMMARY:La Galerie / Genf
DESCRIPTION:
URL:https://desertoparallax.ch/event/la-taverne/
LOCATION:La Galerie\, Rue de l'Industrie 13\, Genf
END:VEVENT
BEGIN:VEVENT
DTSTART;TZID=Europe/Zurich:20230518T210000
DTEND;TZID=Europe/Zurich:20230518T210000
DTSTAMP:20260425T122842
CREATED:20230508T084156Z
LAST-MODIFIED:20230509T130817Z
UID:285-1684443600-1684443600@desertoparallax.ch
SUMMARY:Cafe Bar Mokka / Thun
DESCRIPTION:CAFE BAR MOKKA ist ein Kulturlokal mit einer über 35 jährigen Geschichte. \n 
URL:https://desertoparallax.ch/event/mokka/
LOCATION:Café Bar Mokka\, Allmendstrasse 14\, 3600 Thun
END:VEVENT
END:VCALENDAR