BEGIN:VCALENDAR
VERSION:2.0
PRODID:-// - ECPv6.15.20//NONSGML v1.0//EN
CALSCALE:GREGORIAN
METHOD:PUBLISH
X-ORIGINAL-URL:https://desertoparallax.ch
X-WR-CALDESC:Events for 
REFRESH-INTERVAL;VALUE=DURATION:PT1H
X-Robots-Tag:noindex
X-PUBLISHED-TTL:PT1H
BEGIN:VTIMEZONE
TZID:Europe/Zurich
BEGIN:DAYLIGHT
TZOFFSETFROM:+0100
TZOFFSETTO:+0200
TZNAME:CEST
DTSTART:20240331T010000
END:DAYLIGHT
BEGIN:STANDARD
TZOFFSETFROM:+0200
TZOFFSETTO:+0100
TZNAME:CET
DTSTART:20241027T010000
END:STANDARD
BEGIN:DAYLIGHT
TZOFFSETFROM:+0100
TZOFFSETTO:+0200
TZNAME:CEST
DTSTART:20250330T010000
END:DAYLIGHT
BEGIN:STANDARD
TZOFFSETFROM:+0200
TZOFFSETTO:+0100
TZNAME:CET
DTSTART:20251026T010000
END:STANDARD
BEGIN:DAYLIGHT
TZOFFSETFROM:+0100
TZOFFSETTO:+0200
TZNAME:CEST
DTSTART:20260329T010000
END:DAYLIGHT
BEGIN:STANDARD
TZOFFSETFROM:+0200
TZOFFSETTO:+0100
TZNAME:CET
DTSTART:20261025T010000
END:STANDARD
BEGIN:DAYLIGHT
TZOFFSETFROM:+0100
TZOFFSETTO:+0200
TZNAME:CEST
DTSTART:20270328T010000
END:DAYLIGHT
BEGIN:STANDARD
TZOFFSETFROM:+0200
TZOFFSETTO:+0100
TZNAME:CET
DTSTART:20271031T010000
END:STANDARD
END:VTIMEZONE
BEGIN:VEVENT
DTSTART;TZID=Europe/Zurich:20250503T200000
DTEND;TZID=Europe/Zurich:20250503T233000
DTSTAMP:20260423T121824
CREATED:20250423T130324Z
LAST-MODIFIED:20250423T130324Z
UID:686-1746302400-1746315000@desertoparallax.ch
SUMMARY:Quellbar - Ursenbach
DESCRIPTION:
URL:https://desertoparallax.ch/event/quellbar-ursenbach/
END:VEVENT
BEGIN:VEVENT
DTSTART;TZID=Europe/Zurich:20250508T200000
DTEND;TZID=Europe/Zurich:20250508T220000
DTSTAMP:20260423T121824
CREATED:20250330T211916Z
LAST-MODIFIED:20250330T211916Z
UID:668-1746734400-1746741600@desertoparallax.ch
SUMMARY:Support Show for "The Undercover Hippy" - Gaskessel Bern
DESCRIPTION:
URL:https://desertoparallax.ch/event/support-show-for-the-undercover-hippy-gaskessel-bern/
END:VEVENT
BEGIN:VEVENT
DTSTART;TZID=Europe/Zurich:20250517T200000
DTEND;TZID=Europe/Zurich:20250517T220000
DTSTAMP:20260423T121824
CREATED:20250330T212200Z
LAST-MODIFIED:20250330T212200Z
UID:670-1747512000-1747519200@desertoparallax.ch
SUMMARY:Private Show - Die Heitere Fahne\, Bern
DESCRIPTION:
URL:https://desertoparallax.ch/event/private-show-die-heitere-fahne-bern/
END:VEVENT
BEGIN:VEVENT
DTSTART;TZID=Europe/Zurich:20250531T160000
DTEND;TZID=Europe/Zurich:20250531T173000
DTSTAMP:20260423T121824
CREATED:20250117T161750Z
LAST-MODIFIED:20250117T161750Z
UID:651-1748707200-1748712600@desertoparallax.ch
SUMMARY:Kiosk-Art - Neuchâtel
DESCRIPTION:
URL:https://desertoparallax.ch/event/kiosk-art-neuchatel/
END:VEVENT
BEGIN:VEVENT
DTSTART;TZID=Europe/Zurich:20250611T190000
DTEND;TZID=Europe/Zurich:20250611T233000
DTSTAMP:20260423T121824
CREATED:20250423T130643Z
LAST-MODIFIED:20250423T130643Z
UID:688-1749668400-1749684600@desertoparallax.ch
SUMMARY:Communitism - Athens
DESCRIPTION:
URL:https://desertoparallax.ch/event/communitism-athens/
END:VEVENT
BEGIN:VEVENT
DTSTART;TZID=Europe/Zurich:20250622T160000
DTEND;TZID=Europe/Zurich:20250622T200000
DTSTAMP:20260423T121824
CREATED:20250330T212441Z
LAST-MODIFIED:20250330T212441Z
UID:672-1750608000-1750622400@desertoparallax.ch
SUMMARY:Acoustic Show - Strandbad Thun
DESCRIPTION:
URL:https://desertoparallax.ch/event/acoustic-show-strandbad-thun/
END:VEVENT
BEGIN:VEVENT
DTSTART;TZID=Europe/Zurich:20250628T200000
DTEND;TZID=Europe/Zurich:20250628T223000
DTSTAMP:20260423T121824
CREATED:20250330T212738Z
LAST-MODIFIED:20250528T174118Z
UID:674-1751140800-1751149800@desertoparallax.ch
SUMMARY:Bezirksecho Zürich
DESCRIPTION:
URL:https://desertoparallax.ch/event/quartierfest-in-zurich-place-will-be-announced/
END:VEVENT
BEGIN:VEVENT
DTSTART;TZID=Europe/Zurich:20250629T160000
DTEND;TZID=Europe/Zurich:20250629T200000
DTSTAMP:20260423T121824
CREATED:20250331T072442Z
LAST-MODIFIED:20250331T072442Z
UID:678-1751212800-1751227200@desertoparallax.ch
SUMMARY:Acoustic Show - Strandbad Thun (Alternative Date)
DESCRIPTION:
URL:https://desertoparallax.ch/event/acoustic-show-strandbad-thun-alternative-date/
END:VEVENT
BEGIN:VEVENT
DTSTART;TZID=Europe/Zurich:20250809T160000
DTEND;TZID=Europe/Zurich:20250809T173000
DTSTAMP:20260423T121824
CREATED:20250330T213108Z
LAST-MODIFIED:20250330T213108Z
UID:676-1754755200-1754760600@desertoparallax.ch
SUMMARY:Openair am Bielersee - Vinelz
DESCRIPTION:
URL:https://desertoparallax.ch/event/openair-am-bielersee-vinelz/
END:VEVENT
BEGIN:VEVENT
DTSTART;TZID=Europe/Zurich:20250815T203000
DTEND;TZID=Europe/Zurich:20250815T230000
DTSTAMP:20260423T121824
CREATED:20250711T121448Z
LAST-MODIFIED:20250811T141934Z
UID:696-1755289800-1755298800@desertoparallax.ch
SUMMARY:Acoustic Duo Show - Bern (Lehrerzimmer)
DESCRIPTION:Waisenhausplatz 30 / Speichergasse 4 3011 Bern\, Bern 3011 Schweiz
URL:https://desertoparallax.ch/event/acoustic-duo-show-bern-lehrerzimmer/
END:VEVENT
BEGIN:VEVENT
DTSTART;TZID=Europe/Zurich:20250910T193000
DTEND;TZID=Europe/Zurich:20250910T220000
DTSTAMP:20260423T121824
CREATED:20250825T174737Z
LAST-MODIFIED:20250825T174737Z
UID:703-1757532600-1757541600@desertoparallax.ch
SUMMARY:Acoustic Solo Show with Buck Curran - Feather Star Pub\, Wirksworth (UK)
DESCRIPTION:
URL:https://desertoparallax.ch/event/acoustic-solo-show-with-buck-curran-feather-star-pub-wirksworth-uk/
END:VEVENT
BEGIN:VEVENT
DTSTART;TZID=Europe/Zurich:20250911T193000
DTEND;TZID=Europe/Zurich:20250911T220000
DTSTAMP:20260423T121824
CREATED:20250825T175018Z
LAST-MODIFIED:20250825T175018Z
UID:705-1757619000-1757628000@desertoparallax.ch
SUMMARY:Acoustic Solo Show with Buck Curran - Bishops House\, Sheffield (UK)
DESCRIPTION:
URL:https://desertoparallax.ch/event/acoustic-solo-show-with-buck-curran-bishops-house-sheffield-uk/
END:VEVENT
BEGIN:VEVENT
DTSTART;TZID=Europe/Zurich:20250920T190000
DTEND;TZID=Europe/Zurich:20250920T210000
DTSTAMP:20260423T121824
CREATED:20250528T173908Z
LAST-MODIFIED:20250528T173908Z
UID:692-1758394800-1758402000@desertoparallax.ch
SUMMARY:Private show - Bern (Breitschträff)
DESCRIPTION:
URL:https://desertoparallax.ch/event/private-show-bern-breitschtraff/
END:VEVENT
BEGIN:VEVENT
DTSTART;TZID=Europe/Zurich:20251018T190000
DTEND;TZID=Europe/Zurich:20251018T230000
DTSTAMP:20260423T121824
CREATED:20250917T142852Z
LAST-MODIFIED:20250917T142852Z
UID:708-1760814000-1760828400@desertoparallax.ch
SUMMARY:Acoustic Trio Show - Meri's Stube
DESCRIPTION:Stössen 831\, Rüschegg\, Switzerland 3154
URL:https://desertoparallax.ch/event/acoustic-trio-show-meris-stube/
END:VEVENT
BEGIN:VEVENT
DTSTART;TZID=Europe/Zurich:20251101T200000
DTEND;TZID=Europe/Zurich:20251101T233000
DTSTAMP:20260423T121824
CREATED:20250811T141806Z
LAST-MODIFIED:20250811T142041Z
UID:699-1762027200-1762039800@desertoparallax.ch
SUMMARY:Full Band - Le-Bellevue\, Les-Prés-d'Orvin
DESCRIPTION:
URL:https://desertoparallax.ch/event/full-band-les-pres-dorvin-le-bellevue/
END:VEVENT
BEGIN:VEVENT
DTSTART;TZID=Europe/Zurich:20251106T200000
DTEND;TZID=Europe/Zurich:20251106T223000
DTSTAMP:20260423T121824
CREATED:20250331T072832Z
LAST-MODIFIED:20250331T072832Z
UID:680-1762459200-1762468200@desertoparallax.ch
SUMMARY:Acoustic Show - Sherlock Lounge\, Meiringen
DESCRIPTION:
URL:https://desertoparallax.ch/event/acoustic-show-sherlock-lounge-meiringen/
END:VEVENT
BEGIN:VEVENT
DTSTART;TZID=Europe/Zurich:20251220T190000
DTEND;TZID=Europe/Zurich:20251220T223000
DTSTAMP:20260423T121824
CREATED:20251204T165421Z
LAST-MODIFIED:20251204T165421Z
UID:714-1766257200-1766269800@desertoparallax.ch
SUMMARY:Giraff Bar - Solothurn (Acoustic Trio Show)
DESCRIPTION:
URL:https://desertoparallax.ch/event/giraff-bar-solothurn-acoustic-trio-show/
END:VEVENT
BEGIN:VEVENT
DTSTART;TZID=Europe/Zurich:20260203T200000
DTEND;TZID=Europe/Zurich:20260203T230000
DTSTAMP:20260423T121824
CREATED:20260115T092422Z
LAST-MODIFIED:20260115T092451Z
UID:720-1770148800-1770159600@desertoparallax.ch
SUMMARY:Poetry Bar - Athens\, Exarchia
DESCRIPTION:
URL:https://desertoparallax.ch/event/poetry-bar-athens-exarchia/
END:VEVENT
BEGIN:VEVENT
DTSTART;TZID=Europe/Zurich:20260205T200000
DTEND;TZID=Europe/Zurich:20260205T233000
DTSTAMP:20260423T121824
CREATED:20260115T092133Z
LAST-MODIFIED:20260115T092133Z
UID:718-1770321600-1770334200@desertoparallax.ch
SUMMARY:Symposium Music Bar - Athens\, Exarchia
DESCRIPTION:
URL:https://desertoparallax.ch/event/symposium-music-bar-athens-exarchia/
END:VEVENT
BEGIN:VEVENT
DTSTART;TZID=Europe/Zurich:20260213T190000
DTEND;TZID=Europe/Zurich:20260213T220000
DTSTAMP:20260423T121824
CREATED:20260128T171713Z
LAST-MODIFIED:20260128T171713Z
UID:723-1771009200-1771020000@desertoparallax.ch
SUMMARY:Acoustic Duo Show & Support for "Dance with Invisible Partners" - Ruuemli in Thun\, CH
DESCRIPTION:Frutigenstr. 80\, 3604 thun
URL:https://desertoparallax.ch/event/acoustic-duo-show-support-for-dance-with-invisible-partners-ruuemli-in-thun-ch/
END:VEVENT
BEGIN:VEVENT
DTSTART;TZID=Europe/Zurich:20260312T190000
DTEND;TZID=Europe/Zurich:20260312T220000
DTSTAMP:20260423T121824
CREATED:20260128T172301Z
LAST-MODIFIED:20260223T181426Z
UID:725-1773342000-1773352800@desertoparallax.ch
SUMMARY:Full Band Show - Antikensammlung Bern (Museum)
DESCRIPTION:DESERTO PARALLAX – NEXT FULL BAND SHOWMuseumsbier & Night at the Museum\n\n12. März – Antikensammlung Bern Show: 19:00Hallerstrasse 12\, 3012 Bernhttps://museumsbier.ch/\n\nRichtpreis: 10 – 20 fr\n\nPhoto taken in Bergamo (Italy) “Nel giardino di Anita”\n\nBooking by Le Renebooking@lerene.ch\n\nIt’s a journey\, not a destination. From intimate acoustic formations to rumbling electric live concerts\, Deserto Parallax reminds us that music is timeless and has no borders. While lead singer/songwriter Maximilian Tzortzatos (formerly of Artlu Bubble & the Dead Animal Gang) pulls us into his world of tales and protest\, the band underlines the depth of his words with the expression of a true live band; ever-changing and full of suspense.
URL:https://desertoparallax.ch/event/full-band-show-antikensammlung-bern-museum/
LOCATION:Hallerstrasse 12\, 3012 Bern
END:VEVENT
END:VCALENDAR