BEGIN:VCALENDAR
VERSION:2.0
PRODID:-// - ECPv6.15.20//NONSGML v1.0//EN
CALSCALE:GREGORIAN
METHOD:PUBLISH
X-ORIGINAL-URL:https://desertoparallax.ch
X-WR-CALDESC:Events for 
REFRESH-INTERVAL;VALUE=DURATION:PT1H
X-Robots-Tag:noindex
X-PUBLISHED-TTL:PT1H
BEGIN:VTIMEZONE
TZID:Europe/Zurich
BEGIN:DAYLIGHT
TZOFFSETFROM:+0100
TZOFFSETTO:+0200
TZNAME:CEST
DTSTART:20230326T010000
END:DAYLIGHT
BEGIN:STANDARD
TZOFFSETFROM:+0200
TZOFFSETTO:+0100
TZNAME:CET
DTSTART:20231029T010000
END:STANDARD
BEGIN:DAYLIGHT
TZOFFSETFROM:+0100
TZOFFSETTO:+0200
TZNAME:CEST
DTSTART:20240331T010000
END:DAYLIGHT
BEGIN:STANDARD
TZOFFSETFROM:+0200
TZOFFSETTO:+0100
TZNAME:CET
DTSTART:20241027T010000
END:STANDARD
BEGIN:DAYLIGHT
TZOFFSETFROM:+0100
TZOFFSETTO:+0200
TZNAME:CEST
DTSTART:20250330T010000
END:DAYLIGHT
BEGIN:STANDARD
TZOFFSETFROM:+0200
TZOFFSETTO:+0100
TZNAME:CET
DTSTART:20251026T010000
END:STANDARD
BEGIN:DAYLIGHT
TZOFFSETFROM:+0100
TZOFFSETTO:+0200
TZNAME:CEST
DTSTART:20260329T010000
END:DAYLIGHT
BEGIN:STANDARD
TZOFFSETFROM:+0200
TZOFFSETTO:+0100
TZNAME:CET
DTSTART:20261025T010000
END:STANDARD
END:VTIMEZONE
BEGIN:VEVENT
DTSTART;TZID=Europe/Zurich:20250503T200000
DTEND;TZID=Europe/Zurich:20250503T233000
DTSTAMP:20260423T182051
CREATED:20250423T130324Z
LAST-MODIFIED:20250423T130324Z
UID:686-1746302400-1746315000@desertoparallax.ch
SUMMARY:Quellbar - Ursenbach
DESCRIPTION:
URL:https://desertoparallax.ch/event/quellbar-ursenbach/
END:VEVENT
BEGIN:VEVENT
DTSTART;TZID=Europe/Zurich:20250502T200000
DTEND;TZID=Europe/Zurich:20250502T233000
DTSTAMP:20260423T182051
CREATED:20250330T211603Z
LAST-MODIFIED:20250331T073039Z
UID:666-1746216000-1746228600@desertoparallax.ch
SUMMARY:Official House Show - Bergamo\, Italy (place will be announced)
DESCRIPTION:
URL:https://desertoparallax.ch/event/house-show-bergamo-italy/
END:VEVENT
BEGIN:VEVENT
DTSTART;TZID=Europe/Zurich:20250426T190000
DTEND;TZID=Europe/Zurich:20250426T223000
DTSTAMP:20260423T182051
CREATED:20250330T211302Z
LAST-MODIFIED:20250331T072904Z
UID:664-1745694000-1745706600@desertoparallax.ch
SUMMARY:Acoustic Show - Breitsch-Träff\, Bern
DESCRIPTION:
URL:https://desertoparallax.ch/event/acoustic-duo-show-breitsch-traff-bern/
END:VEVENT
BEGIN:VEVENT
DTSTART;TZID=Europe/Zurich:20250425T210000
DTEND;TZID=Europe/Zurich:20250425T233000
DTSTAMP:20260423T182051
CREATED:20250330T210952Z
LAST-MODIFIED:20250330T210952Z
UID:662-1745614800-1745623800@desertoparallax.ch
SUMMARY:Eldorado Bar - Biel & Bienne
DESCRIPTION:
URL:https://desertoparallax.ch/event/eldorado-bar-biel-bienne/
END:VEVENT
BEGIN:VEVENT
DTSTART;TZID=Europe/Zurich:20250322T190000
DTEND;TZID=Europe/Zurich:20250322T210000
DTSTAMP:20260423T182051
CREATED:20241115T110203Z
LAST-MODIFIED:20241115T110203Z
UID:636-1742670000-1742677200@desertoparallax.ch
SUMMARY:ShakShuk\, Ins
DESCRIPTION:
URL:https://desertoparallax.ch/event/shakshuk-ins/
END:VEVENT
BEGIN:VEVENT
DTSTART;TZID=Europe/Zurich:20250315T200000
DTEND;TZID=Europe/Zurich:20250315T223000
DTSTAMP:20260423T182051
CREATED:20250117T161519Z
LAST-MODIFIED:20250117T161519Z
UID:649-1742068800-1742077800@desertoparallax.ch
SUMMARY:La Bille\, La Sarraz
DESCRIPTION:
URL:https://desertoparallax.ch/event/la-bille-la-sarraz/
END:VEVENT
BEGIN:VEVENT
DTSTART;TZID=Europe/Zurich:20250308T210000
DTEND;TZID=Europe/Zurich:20250308T223000
DTSTAMP:20260423T182051
CREATED:20250122T125131Z
LAST-MODIFIED:20250122T125131Z
UID:658-1741467600-1741473000@desertoparallax.ch
SUMMARY:Zarbar\, Bern (Acoustic Show)
DESCRIPTION:
URL:https://desertoparallax.ch/event/zarbar-bern-acoustic-show/
END:VEVENT
BEGIN:VEVENT
DTSTART;TZID=Europe/Zurich:20250217T203000
DTEND;TZID=Europe/Zurich:20250217T220000
DTSTAMP:20260423T182051
CREATED:20250122T124747Z
LAST-MODIFIED:20250122T124747Z
UID:656-1739824200-1739829600@desertoparallax.ch
SUMMARY:To Pano Spiti\, Athen
DESCRIPTION:
URL:https://desertoparallax.ch/event/to-pano-spiti-athen-2/
END:VEVENT
BEGIN:VEVENT
DTSTART;TZID=Europe/Zurich:20250129T170000
DTEND;TZID=Europe/Zurich:20250129T210000
DTSTAMP:20260423T182051
CREATED:20241115T105843Z
LAST-MODIFIED:20241115T105843Z
UID:634-1738170000-1738184400@desertoparallax.ch
SUMMARY:Radio in Lausanne
DESCRIPTION:
URL:https://desertoparallax.ch/event/radio-in-lausanne/
END:VEVENT
BEGIN:VEVENT
DTSTART;TZID=Europe/Zurich:20250124T210000
DTEND;TZID=Europe/Zurich:20250124T230000
DTSTAMP:20260423T182051
CREATED:20241115T105710Z
LAST-MODIFIED:20241115T105710Z
UID:632-1737752400-1737759600@desertoparallax.ch
SUMMARY:AkUt in Thun
DESCRIPTION:
URL:https://desertoparallax.ch/event/akut-in-thun/
END:VEVENT
BEGIN:VEVENT
DTSTART;TZID=Europe/Zurich:20241216T190000
DTEND;TZID=Europe/Zurich:20241216T230000
DTSTAMP:20260423T182051
CREATED:20240912T162755Z
LAST-MODIFIED:20240912T163111Z
UID:610-1734375600-1734390000@desertoparallax.ch
SUMMARY:We host the Open Mic @ Kairo
DESCRIPTION:
URL:https://desertoparallax.ch/event/we-host-the-open-mic-kairo/
LOCATION:Café Kairo\, Dammweg 43\, Bern\, 3013\, Switzerland
END:VEVENT
BEGIN:VEVENT
DTSTART;TZID=Europe/Zurich:20241207T160000
DTEND;TZID=Europe/Zurich:20241207T220000
DTSTAMP:20260423T182051
CREATED:20241115T105059Z
LAST-MODIFIED:20241115T110533Z
UID:628-1733587200-1733608800@desertoparallax.ch
SUMMARY:Honky Tonk Festival - Thun
DESCRIPTION:
URL:https://desertoparallax.ch/event/honky-tonk-festival-thun/
END:VEVENT
BEGIN:VEVENT
DTSTART;TZID=Europe/Zurich:20241122T200000
DTEND;TZID=Europe/Zurich:20241122T223000
DTSTAMP:20260423T182051
CREATED:20241115T105437Z
LAST-MODIFIED:20241115T105437Z
UID:630-1732305600-1732314600@desertoparallax.ch
SUMMARY:Acoustic Solo Show (Maximilian S. Tzortzatos) - Bergamo\, Italy
DESCRIPTION:Viao Paleocapa 19.\, you will have to ring up at the door (Pappalardo + Curran)
URL:https://desertoparallax.ch/event/acoustic-solo-show-maximilian-s-tzortzatos-bergamo-italy/
END:VEVENT
BEGIN:VEVENT
DTSTART;TZID=Europe/Zurich:20240831T190000
DTEND;TZID=Europe/Zurich:20240831T203000
DTSTAMP:20260423T182051
CREATED:20240828T104356Z
LAST-MODIFIED:20240828T104356Z
UID:602-1725130800-1725136200@desertoparallax.ch
SUMMARY:Zentival Festival - Bern
DESCRIPTION:
URL:https://desertoparallax.ch/event/zentival-festival-bern/
LOCATION:Ostermundigen
END:VEVENT
BEGIN:VEVENT
DTSTART;TZID=Europe/Zurich:20240829T201500
DTEND;TZID=Europe/Zurich:20240829T213000
DTSTAMP:20260423T182051
CREATED:20240828T103514Z
LAST-MODIFIED:20240828T103514Z
UID:598-1724962500-1724967000@desertoparallax.ch
SUMMARY:Schütz Sommerbühne Bern
DESCRIPTION:
URL:https://desertoparallax.ch/event/schutz-sommerbuhne-bern/
LOCATION:Schützenmatte  Bern\, Switzerland
END:VEVENT
BEGIN:VEVENT
DTSTART;TZID=Europe/Zurich:20240817T220000
DTEND;TZID=Europe/Zurich:20240817T220000
DTSTAMP:20260423T182051
CREATED:20240213T212251Z
LAST-MODIFIED:20240213T212251Z
UID:514-1723932000-1723932000@desertoparallax.ch
SUMMARY:Lorrainechilbi
DESCRIPTION:
URL:https://desertoparallax.ch/event/lorrainechilbi/
LOCATION:Lorrainechilbi\, Lorrainepark\, Bern\, Bern\, 3013\, Switzerland
END:VEVENT
BEGIN:VEVENT
DTSTART;TZID=Europe/Zurich:20240706T100000
DTEND;TZID=Europe/Zurich:20240706T130000
DTSTAMP:20260423T182051
CREATED:20240609T195548Z
LAST-MODIFIED:20240609T195548Z
UID:593-1720260000-1720270800@desertoparallax.ch
SUMMARY:Breitsch Träff - Bern
DESCRIPTION:
URL:https://desertoparallax.ch/event/breitsch-traff-bern/
END:VEVENT
BEGIN:VEVENT
DTSTART;TZID=Europe/Zurich:20240629T150000
DTEND;TZID=Europe/Zurich:20240629T154500
DTSTAMP:20260423T182051
CREATED:20240103T143129Z
LAST-MODIFIED:20240213T213943Z
UID:498-1719673200-1719675900@desertoparallax.ch
SUMMARY:Boanda Openair Mittelland Gunzgen
DESCRIPTION:
URL:https://desertoparallax.ch/event/boanda-openair-mittelland-gunzgen/
LOCATION:Boanda Openair Gunzgen\, Härkingerstrasse\, Gunzgen\, 4617\, Switzerland
END:VEVENT
BEGIN:VEVENT
DTSTART;TZID=Europe/Zurich:20240628T200000
DTEND;TZID=Europe/Zurich:20240628T220000
DTSTAMP:20260423T182051
CREATED:20240609T195408Z
LAST-MODIFIED:20240609T195408Z
UID:591-1719604800-1719612000@desertoparallax.ch
SUMMARY:Hafen / Landestelle - Basel
DESCRIPTION:
URL:https://desertoparallax.ch/event/hafen-landestelle-basel/
END:VEVENT
BEGIN:VEVENT
DTSTART;TZID=Europe/Zurich:20240622T183000
DTEND;TZID=Europe/Zurich:20240622T183000
DTSTAMP:20260423T182051
CREATED:20240409T101701Z
LAST-MODIFIED:20240409T101701Z
UID:562-1719081000-1719081000@desertoparallax.ch
SUMMARY:Wichi Festival
DESCRIPTION:
URL:https://desertoparallax.ch/event/wichi-festival-2/
LOCATION:Wichtrach\, Switzerland
END:VEVENT
BEGIN:VEVENT
DTSTART;TZID=Europe/Zurich:20240621T200000
DTEND;TZID=Europe/Zurich:20240621T200000
DTSTAMP:20260423T182051
CREATED:20240409T100715Z
LAST-MODIFIED:20240409T101239Z
UID:556-1719000000-1719000000@desertoparallax.ch
SUMMARY:Holligenfest - Bern
DESCRIPTION:
URL:https://desertoparallax.ch/event/wichi-festival/
LOCATION:Holligen\, Bern\, Switzerland
END:VEVENT
BEGIN:VEVENT
DTSTART;TZID=Europe/Zurich:20240615T210000
DTEND;TZID=Europe/Zurich:20240615T223000
DTSTAMP:20260423T182051
CREATED:20240609T195123Z
LAST-MODIFIED:20240609T195123Z
UID:589-1718485200-1718490600@desertoparallax.ch
SUMMARY:Private Gig - Bern
DESCRIPTION:
URL:https://desertoparallax.ch/event/private-gig-bern/
END:VEVENT
BEGIN:VEVENT
DTSTART;TZID=Europe/Zurich:20240614T200000
DTEND;TZID=Europe/Zurich:20240614T220000
DTSTAMP:20260423T182051
CREATED:20240609T194947Z
LAST-MODIFIED:20240609T194947Z
UID:587-1718395200-1718402400@desertoparallax.ch
SUMMARY:Bergamo - Italien
DESCRIPTION:
URL:https://desertoparallax.ch/event/bergamo-italien/
END:VEVENT
BEGIN:VEVENT
DTSTART;TZID=Europe/Zurich:20240608T210000
DTEND;TZID=Europe/Zurich:20240608T210000
DTSTAMP:20260423T182051
CREATED:20240213T211733Z
LAST-MODIFIED:20240213T211733Z
UID:511-1717880400-1717880400@desertoparallax.ch
SUMMARY:Obershanti Folk Festival
DESCRIPTION:
URL:https://desertoparallax.ch/event/obershanti-folk-festival/
LOCATION:Obershanti Folk Festival\, Schützenhaus\, Oberschan\, St.Gallen\, 9479\, Switzerland
END:VEVENT
BEGIN:VEVENT
DTSTART;TZID=Europe/Zurich:20240606T190000
DTEND;TZID=Europe/Zurich:20240606T190000
DTSTAMP:20260423T182051
CREATED:20240305T130823Z
LAST-MODIFIED:20240305T130905Z
UID:528-1717700400-1717700400@desertoparallax.ch
SUMMARY:Concert at the Lake
DESCRIPTION:
URL:https://desertoparallax.ch/event/buvette-am-see/
LOCATION:Buvette am See\, Ländtestrasse 15\, Thun\, 3626\, Switzerland
END:VEVENT
BEGIN:VEVENT
DTSTART;TZID=Europe/Zurich:20240510T200000
DTEND;TZID=Europe/Zurich:20240510T200000
DTSTAMP:20260423T182051
CREATED:20240305T124157Z
LAST-MODIFIED:20240305T130613Z
UID:522-1715371200-1715371200@desertoparallax.ch
SUMMARY:Album Release - Heitere Fahne
DESCRIPTION:
URL:https://desertoparallax.ch/event/plattentaufe-in-der-heiteren-fahne/
LOCATION:Heitere Fahne\, Dorfstrasse 22\, Wabern\, Bern
END:VEVENT
BEGIN:VEVENT
DTSTART;TZID=Europe/Zurich:20240508T190000
DTEND;TZID=Europe/Zurich:20240508T190000
DTSTAMP:20260423T182051
CREATED:20240409T100332Z
LAST-MODIFIED:20240409T100332Z
UID:553-1715194800-1715194800@desertoparallax.ch
SUMMARY:Pyramidstage - Together with "Elephant Stone"
DESCRIPTION:
URL:https://desertoparallax.ch/event/pyramidstage-together-with-elephant-stone/
LOCATION:Pyramidstage\, Spinnereiweg 17\, Bern\, 3004\, Switzerland
END:VEVENT
BEGIN:VEVENT
DTSTART;TZID=Europe/Zurich:20240413T200000
DTEND;TZID=Europe/Zurich:20240413T210000
DTSTAMP:20260423T182051
CREATED:20240409T095326Z
LAST-MODIFIED:20240409T095456Z
UID:550-1713038400-1713042000@desertoparallax.ch
SUMMARY:Zentralwäscherei - Zürich
DESCRIPTION:
URL:https://desertoparallax.ch/event/zentralwascherei-zurich/
END:VEVENT
BEGIN:VEVENT
DTSTART;TZID=Europe/Zurich:20240322T210000
DTEND;TZID=Europe/Zurich:20240322T210000
DTSTAMP:20260423T182051
CREATED:20240213T211221Z
LAST-MODIFIED:20240213T211254Z
UID:508-1711141200-1711141200@desertoparallax.ch
SUMMARY:Galéries du Pichoux
DESCRIPTION:
URL:https://desertoparallax.ch/event/galeries-du-pichoux/
LOCATION:Undervelier\, Undervelier\, Jura\, 2863\, Switzerland
END:VEVENT
BEGIN:VEVENT
DTSTART;TZID=Europe/Zurich:20240316T210000
DTEND;TZID=Europe/Zurich:20240316T210000
DTSTAMP:20260423T182051
CREATED:20231229T160959Z
LAST-MODIFIED:20240213T214411Z
UID:480-1710622800-1710622800@desertoparallax.ch
SUMMARY:Musica per la Pace\, Bern
DESCRIPTION:
URL:https://desertoparallax.ch/event/musica-per-la-pace/
LOCATION:Breitsch Träff\, Breitenrainplatz 27\, Bern\, 3014\, Switzerland
END:VEVENT
END:VCALENDAR